BEGIN:VCALENDAR
VERSION:2.0
PRODID:-//The Movie Institute - ECPv6.15.18//NONSGML v1.0//EN
CALSCALE:GREGORIAN
METHOD:PUBLISH
X-WR-CALNAME:The Movie Institute
X-ORIGINAL-URL:https://movieinstitute.org
X-WR-CALDESC:Events for The Movie Institute
REFRESH-INTERVAL;VALUE=DURATION:PT1H
X-Robots-Tag:noindex
X-PUBLISHED-TTL:PT1H
BEGIN:VTIMEZONE
TZID:America/Chicago
BEGIN:DAYLIGHT
TZOFFSETFROM:-0600
TZOFFSETTO:-0500
TZNAME:CDT
DTSTART:20250309T080000
END:DAYLIGHT
BEGIN:STANDARD
TZOFFSETFROM:-0500
TZOFFSETTO:-0600
TZNAME:CST
DTSTART:20251102T070000
END:STANDARD
BEGIN:DAYLIGHT
TZOFFSETFROM:-0600
TZOFFSETTO:-0500
TZNAME:CDT
DTSTART:20260308T080000
END:DAYLIGHT
BEGIN:STANDARD
TZOFFSETFROM:-0500
TZOFFSETTO:-0600
TZNAME:CST
DTSTART:20261101T070000
END:STANDARD
BEGIN:DAYLIGHT
TZOFFSETFROM:-0600
TZOFFSETTO:-0500
TZNAME:CDT
DTSTART:20270314T080000
END:DAYLIGHT
BEGIN:STANDARD
TZOFFSETFROM:-0500
TZOFFSETTO:-0600
TZNAME:CST
DTSTART:20271107T070000
END:STANDARD
END:VTIMEZONE
BEGIN:VEVENT
DTSTART;TZID=America/Chicago:20260601T090000
DTEND;TZID=America/Chicago:20260604T130000
DTSTAMP:20260420T041149
CREATED:20250311T204614Z
LAST-MODIFIED:20260318T181243Z
UID:10292-1780304400-1780578000@movieinstitute.org
SUMMARY:Kamp Filmopolis1: Jun 1 - 4
DESCRIPTION:Kamp Filmopolis\nAges 10 to 18 \nFrom Script to Screen—You’re the Filmmakers! \nStep onto a real film set in this hands-on\, half-day filmmaking camp! You’ll be part of a small production group where everyone takes on key production roles—operating professional cameras\, running sound\, directing scenes\, and acting—with guidance from industry professionals who mentor while letting you take the lead. \nBy the end of camp\, your short film will be shot and ready for post-production\, where our professional editors will add the final polish. Once complete\, your finished film will be uploaded to YouTube—ready to share with the world! \nMonday – Thursday June 1 to 4 \n9:00 – AM to 1:00 PM \nSpecial Price: $299Regularly $349Save $50
URL:https://movieinstitute.org/event/kf1-0601/
LOCATION:The MI North Studio\, 6121 W. Park Blvd Suite B214\, Plano\, TX\, 75093\, United States
CATEGORIES:Kamps
END:VEVENT
BEGIN:VEVENT
DTSTART;TZID=America/Chicago:20260601T140000
DTEND;TZID=America/Chicago:20260604T180000
DTSTAMP:20260420T041149
CREATED:20250409T230358Z
LAST-MODIFIED:20260318T181306Z
UID:10374-1780322400-1780596000@movieinstitute.org
SUMMARY:Kamp Filmopolis2: Jun 1-4
DESCRIPTION:Kamp Filmopolis \nAges 10 to 18 \nFrom Script to Screen—You’re the Filmmakers! \nStep onto a real film set in this hands-on\, half-day filmmaking camp! You’ll be part of a small production group where everyone takes on key production roles—operating professional cameras\, running sound\, directing scenes\, and acting—with guidance from industry professionals who mentor while letting you take the lead. \nBy the end of camp\, your short film will be shot and ready for post-production\, where our professional editors will add the final polish. Once complete\, your finished film will be uploaded to YouTube—ready to share with the world! \nMonday – Thursday June 1 to 4 \n2:00 – PM to 6:00 PM \nSpecial Price: $299  \nRegularly $349\,  Save $50 \n*Signup for both AM and PM sessions\, make it a full day and receive a $100 rebate
URL:https://movieinstitute.org/event/kf2-0601/
LOCATION:The MI North Studio\, 6121 W. Park Blvd Suite B214\, Plano\, TX\, 75093\, United States
CATEGORIES:Kamps
END:VEVENT
BEGIN:VEVENT
DTSTART;TZID=America/Chicago:20260720T090000
DTEND;TZID=America/Chicago:20260724T173000
DTSTAMP:20260420T041149
CREATED:20250107T174150Z
LAST-MODIFIED:20251204T161352Z
UID:10203-1784538000-1784914200@movieinstitute.org
SUMMARY:KAMP HOLLYWOOD 2026
DESCRIPTION:Kamp Hollywood 2026\nAges 10 to 18\n \nGet ready for an unforgettable week of creativity\, teamwork\, and fun at our full-day\, week-long Filmmaking Summer Camp! This hands-on camp is perfect for aspiring young filmmakers and storytellers. \nHere’s what your child will experience: \n🎬 Creating a Short Film AND a Commercial: Work as part of a production team to bring your creative visions to life on the big screen \n🎬 Compete for Prestigious Awards: Production groups will compete for titles like Best Picture\, Best Commercial\, Best Acting\, Best Director of Photography\, Best Writing\, and more. \n🎬 Red Carpet Screening & Awards Ceremony: Join us Monday night after camp ends for our graduation and awards ceremony featuring a screening of all the films and commercials created during the week. \nKamp Hollywood  provides an immersive\, dynamic\, and hands-on experience where participants will collaborate to write\, direct\, act\, and bring their creative visions to life on screen. \nSpaces are limited\, so secure your spot today and let your creativity shine! \n \n  \n  \n  \n\nKAMP SCHEDULE:  \nSunday July 19th: 2pm to 3pm KAMP ORIENTATION (Optional; Recommended for new participants) \nMonday July 20 to Friday July 24:  9am to 5:30pm (Early Drop off begins at 8:30am) \nSaturday July 25 – Editing day – only the directors for each project will be able to sit in on part of the editing process.  This is not a teaching day!  (Please keep an eye out for our editing classes & workshops) \nSunday July 26 – Judges from the film industry in and around North Texas will have a private screening to choose the winners of the major categories \nMonday July 27: Red Carpet Screening & graduation at Studio Movie Grill (Spring Valley) \n \n  \n  \n  \nKamp Hollywood Refund Policy
URL:https://movieinstitute.org/event/kamp-hollywood-2026/
LOCATION:The MI North Studio\, 6121 W. Park Blvd Suite B214\, Plano\, TX\, 75093\, United States
CATEGORIES:Kamps
END:VEVENT
END:VCALENDAR